0.00000000000000
0.13000000000000
0.13000000000000
-0.00000000000000
702359.49313953496000
232467.63267441856000
