0.00000000000000
0.13000000000000
0.13000000000000
-0.00000000000000
702357.49313953496000
242786.63267441856000
