0.00000000000000
0.13000000000000
0.13000000000000
-0.00000000000000
702376.49313953496000
248664.63267441856000
