0.00000000000000
0.13000000000000
0.13000000000000
-0.00000000000000
702382.49313953496000
249477.63267441856000
