0.00000000000000
0.13000000000000
0.13000000000000
-0.00000000000000
702364.49313953496000
252706.63267441856000
