0.00000000000000
0.13000000000000
0.13000000000000
-0.00000000000000
702374.49313953496000
254335.63267441856000
