0.00000000000000
0.13000000000000
0.13000000000000
-0.00000000000000
702374.49313953496000
260832.63267441856000
