-0.00000000000000
-0.13000000000000
-0.13000000000000
0.00000000000000
704901.50686046504000
271287.36732558144000
