-0.00000000000000
-0.13000000000000
-0.13000000000000
0.00000000000000
704904.50686046504000
276113.36732558144000
