-0.00000000000000
-0.13000000000000
-0.13000000000000
0.00000000000000
704899.50686046504000
277031.36732558144000
