0.13000000000000
0.00000000000000
0.00000000000000
-0.13000000000000
702002.06499999994000
239434.93500000000000
