0.00000000000000
0.09000000000000
0.09000000000000
-0.00000000000000
701732.93404113175000
251905.10380796439000
