0.00000000000000
0.09000000000000
0.09000000000000
-0.00000000000000
701728.93404113175000
252522.10380796439000
