0.00000000000000
0.09000000000000
0.09000000000000
-0.00000000000000
701745.93404113175000
256090.10380796439000
