0.00000000000000
0.09000000000000
0.09000000000000
-0.00000000000000
701736.93404113175000
262102.10380796439000
