0.00000000000000
0.09000000000000
0.09000000000000
-0.00000000000000
701708.93404113175000
269915.10380796442000
