0.00000000000000
0.09000000000000
0.09000000000000
-0.00000000000000
701743.93404113175000
278436.10380796442000
