-0.00000000000000
-0.09000000000000
-0.09000000000000
0.00000000000000
702395.06595886825000
254037.89619203561000
