-0.00000000000000
-0.09000000000000
-0.09000000000000
0.00000000000000
702407.06595886825000
258446.89619203561000
