-0.00000000000000
-0.09000000000000
-0.09000000000000
0.00000000000000
702397.06595886825000
260079.89619203561000
