-0.00000000000000
-0.09000000000000
-0.09000000000000
0.00000000000000
702405.06595886825000
260645.89619203561000
