-0.00000000000000
-0.09000000000000
-0.09000000000000
0.00000000000000
702411.06595886825000
263544.89619203558000
