-0.00000000000000
-0.09000000000000
-0.09000000000000
0.00000000000000
702399.06595886825000
266276.89619203558000
