-0.00000000000000
-0.09000000000000
-0.09000000000000
0.00000000000000
702387.06595886825000
282073.89619203558000
