0.00000000000000
0.09000000000000
0.09000000000000
-0.00000000000000
699520.93404113175000
263552.10380796442000
