0.00000000000000
0.09000000000000
0.09000000000000
-0.00000000000000
699524.93404113175000
266886.10380796442000
