0.00000000000000
0.09000000000000
0.09000000000000
-0.00000000000000
699502.93404113175000
269503.10380796442000
