0.00000000000000
0.09000000000000
0.09000000000000
-0.00000000000000
699506.93404113175000
270813.10380796442000
