0.00000000000000
0.09000000000000
0.09000000000000
-0.00000000000000
699526.93404113175000
276034.10380796442000
