-0.00000000000000
-0.09000000000000
-0.09000000000000
0.00000000000000
700236.06595886825000
262434.89619203558000
