-0.00000000000000
-0.09000000000000
-0.09000000000000
0.00000000000000
700221.06595886825000
265480.89619203558000
