-0.00000000000000
-0.09000000000000
-0.09000000000000
0.00000000000000
700213.06595886825000
266081.89619203558000
