-0.00000000000000
-0.09000000000000
-0.09000000000000
0.00000000000000
700232.06595886825000
267317.89619203558000
