-0.00000000000000
-0.09000000000000
-0.09000000000000
0.00000000000000
700227.06595886825000
269353.89619203558000
