-0.00000000000000
-0.09000000000000
-0.09000000000000
0.00000000000000
700223.06595886825000
270042.89619203558000
