0.00000000000000
0.09000000000000
0.09000000000000
-0.00000000000000
697355.93404113175000
252431.10380796439000
