0.00000000000000
0.09000000000000
0.09000000000000
-0.00000000000000
697395.93404113175000
254690.10380796439000
