0.00000000000000
0.09000000000000
0.09000000000000
-0.00000000000000
697383.93404113175000
256861.10380796439000
