0.00000000000000
0.09000000000000
0.09000000000000
-0.00000000000000
697375.93404113175000
257428.10380796439000
