0.00000000000000
0.09000000000000
0.09000000000000
-0.00000000000000
697363.93404113175000
257996.10380796439000
