0.00000000000000
0.09000000000000
0.09000000000000
-0.00000000000000
697355.93404113175000
270255.10380796442000
