-0.00000000000000
-0.09000000000000
-0.09000000000000
0.00000000000000
698030.06595886825000
251776.89619203561000
