-0.00000000000000
-0.09000000000000
-0.09000000000000
0.00000000000000
698036.06595886825000
252437.89619203561000
