-0.00000000000000
-0.09000000000000
-0.09000000000000
0.00000000000000
698067.06595886825000
261937.89619203561000
