-0.00000000000000
-0.09000000000000
-0.09000000000000
0.00000000000000
698064.06595886825000
262620.89619203558000
