-0.00000000000000
-0.09000000000000
-0.09000000000000
0.00000000000000
698046.06595886825000
265307.89619203558000
