-0.00000000000000
-0.09000000000000
-0.09000000000000
0.00000000000000
698051.06595886825000
265973.89619203558000
