-0.00000000000000
-0.09000000000000
-0.09000000000000
0.00000000000000
698041.06595886825000
271209.89619203558000
