-0.00000000000000
-0.09000000000000
-0.09000000000000
0.00000000000000
698048.06595886825000
276224.89619203558000
