-0.00000000000000
-0.09000000000000
-0.09000000000000
0.00000000000000
698054.06595886825000
277524.89619203558000
